BEGIN:VCALENDAR
VERSION:2.0
PRODID:-//The Cake Works - ECPv6.15.17.1//NONSGML v1.0//EN
CALSCALE:GREGORIAN
METHOD:PUBLISH
X-WR-CALNAME:The Cake Works
X-ORIGINAL-URL:https://cakeworks.com
X-WR-CALDESC:Events for The Cake Works
REFRESH-INTERVAL;VALUE=DURATION:PT1H
X-Robots-Tag:noindex
X-PUBLISHED-TTL:PT1H
BEGIN:VTIMEZONE
TZID:America/Los_Angeles
BEGIN:DAYLIGHT
TZOFFSETFROM:-0800
TZOFFSETTO:-0700
TZNAME:PDT
DTSTART:20250309T100000
END:DAYLIGHT
BEGIN:STANDARD
TZOFFSETFROM:-0700
TZOFFSETTO:-0800
TZNAME:PST
DTSTART:20251102T090000
END:STANDARD
BEGIN:DAYLIGHT
TZOFFSETFROM:-0800
TZOFFSETTO:-0700
TZNAME:PDT
DTSTART:20260308T100000
END:DAYLIGHT
BEGIN:STANDARD
TZOFFSETFROM:-0700
TZOFFSETTO:-0800
TZNAME:PST
DTSTART:20261101T090000
END:STANDARD
BEGIN:DAYLIGHT
TZOFFSETFROM:-0800
TZOFFSETTO:-0700
TZNAME:PDT
DTSTART:20270314T100000
END:DAYLIGHT
BEGIN:STANDARD
TZOFFSETFROM:-0700
TZOFFSETTO:-0800
TZNAME:PST
DTSTART:20271107T090000
END:STANDARD
END:VTIMEZONE
BEGIN:VEVENT
DTSTART;TZID=America/Los_Angeles:20260331T180000
DTEND;TZID=America/Los_Angeles:20260331T200000
DTSTAMP:20260425T200117
CREATED:20260112T045243Z
LAST-MODIFIED:20260112T045243Z
UID:4352-1774980000-1774987200@cakeworks.com
SUMMARY:French Macarons
DESCRIPTION:Learn how to make these popular cookies\, but shaped like bunny faces and eggs for a fun\, springtimetheme! Some will be pre-made\, some we will bake in class\, and we will have a variety of fillings to\nchoose from. Students will take home both filled and ready-to-fill macarons.
URL:https://cakeworks.com/classes/french-macarons-3/
LOCATION:Cake Works\, 2891 S Bascom Ave\, San Jose\, 95008\, United States
END:VEVENT
END:VCALENDAR